BEGIN:VCALENDAR
VERSION:2.0
PRODID:-//Riverview Historic District - ECPv6.13.2.1//NONSGML v1.0//EN
CALSCALE:GREGORIAN
METHOD:PUBLISH
X-WR-CALNAME:Riverview Historic District
X-ORIGINAL-URL:http://riverviewhistoricdistrict.org
X-WR-CALDESC:Events for Riverview Historic District
REFRESH-INTERVAL;VALUE=DURATION:PT1H
X-Robots-Tag:noindex
X-PUBLISHED-TTL:PT1H
BEGIN:VTIMEZONE
TZID:America/Chicago
BEGIN:DAYLIGHT
TZOFFSETFROM:-0600
TZOFFSETTO:-0500
TZNAME:CDT
DTSTART:20260308T080000
END:DAYLIGHT
BEGIN:STANDARD
TZOFFSETFROM:-0500
TZOFFSETTO:-0600
TZNAME:CST
DTSTART:20261101T070000
END:STANDARD
END:VTIMEZONE
BEGIN:VEVENT
DTSTART;TZID=America/Chicago:20260404T100000
DTEND;TZID=America/Chicago:20260404T100000
DTSTAMP:20260424T120415
CREATED:20210206T222022Z
LAST-MODIFIED:20260331T142059Z
UID:2146-1775296800-1775296800@riverviewhistoricdistrict.org
SUMMARY:RHD Easter Egg Hunt
DESCRIPTION:Annual egg hunt and Easter bunny visit for neighborhood children of Riverview and friends at Cobb Park. Bring a basket to collect eggs and be ready for a photo op with the Easter Bunny! \nMeet at the gazebo to sign-in. \nThe egg hunt will begin promptly at 10:00 AM.
URL:http://riverviewhistoricdistrict.org/event/2023-easter-egg-hunt/
LOCATION:Cobb Park\, Cobb Blvd & S. Greenwood Ave\, KANKAKEE\, IL\, 60901\, United States
END:VEVENT
END:VCALENDAR