BEGIN:VCALENDAR
VERSION:2.0
PRODID:-//Riverview Historic District - ECPv6.13.2.1//NONSGML v1.0//EN
CALSCALE:GREGORIAN
METHOD:PUBLISH
X-WR-CALNAME:Riverview Historic District
X-ORIGINAL-URL:http://riverviewhistoricdistrict.org
X-WR-CALDESC:Events for Riverview Historic District
REFRESH-INTERVAL;VALUE=DURATION:PT1H
X-Robots-Tag:noindex
X-PUBLISHED-TTL:PT1H
BEGIN:VTIMEZONE
TZID:America/Chicago
BEGIN:DAYLIGHT
TZOFFSETFROM:-0600
TZOFFSETTO:-0500
TZNAME:CDT
DTSTART:20260308T080000
END:DAYLIGHT
BEGIN:STANDARD
TZOFFSETFROM:-0500
TZOFFSETTO:-0600
TZNAME:CST
DTSTART:20261101T070000
END:STANDARD
END:VTIMEZONE
BEGIN:VEVENT
DTSTART;TZID=America/Chicago:20260422T090000
DTEND;TZID=America/Chicago:20260422T090000
DTSTAMP:20260424T120415
CREATED:20250210T150848Z
LAST-MODIFIED:20260331T144522Z
UID:3016-1776848400-1776848400@riverviewhistoricdistrict.org
SUMMARY:"Day of Action" Earth Day Clean Up with United Way
DESCRIPTION:We are teaming up with United Way and the 6th Ward for a Day of Action / Earth Day Clean-Up to clean out the corner gardens of the 6th ward. We will be picking up trash in the neighborhood and clearing the corner gardens along River Street before new growth begins. Bags will be provided. Bring gloves and garden clippers if you have them. \n  \nEmail us for more information! Weather permitting. Please keep an eye on the facebook page for more information day of.
URL:http://riverviewhistoricdistrict.org/event/earth-day-clean-up/
LOCATION:Cobb Park\, Cobb Blvd & S. Greenwood Ave\, KANKAKEE\, IL\, 60901\, United States
END:VEVENT
END:VCALENDAR