BEGIN:VCALENDAR
VERSION:2.0
PRODID:-//Riverview Historic District - ECPv6.13.2.1//NONSGML v1.0//EN
CALSCALE:GREGORIAN
METHOD:PUBLISH
X-WR-CALNAME:Riverview Historic District
X-ORIGINAL-URL:http://riverviewhistoricdistrict.org
X-WR-CALDESC:Events for Riverview Historic District
REFRESH-INTERVAL;VALUE=DURATION:PT1H
X-Robots-Tag:noindex
X-PUBLISHED-TTL:PT1H
BEGIN:VTIMEZONE
TZID:America/Chicago
BEGIN:DAYLIGHT
TZOFFSETFROM:-0600
TZOFFSETTO:-0500
TZNAME:CDT
DTSTART:20190310T080000
END:DAYLIGHT
BEGIN:STANDARD
TZOFFSETFROM:-0500
TZOFFSETTO:-0600
TZNAME:CST
DTSTART:20191103T070000
END:STANDARD
BEGIN:DAYLIGHT
TZOFFSETFROM:-0600
TZOFFSETTO:-0500
TZNAME:CDT
DTSTART:20200308T080000
END:DAYLIGHT
BEGIN:STANDARD
TZOFFSETFROM:-0500
TZOFFSETTO:-0600
TZNAME:CST
DTSTART:20201101T070000
END:STANDARD
BEGIN:DAYLIGHT
TZOFFSETFROM:-0600
TZOFFSETTO:-0500
TZNAME:CDT
DTSTART:20210314T080000
END:DAYLIGHT
BEGIN:STANDARD
TZOFFSETFROM:-0500
TZOFFSETTO:-0600
TZNAME:CST
DTSTART:20211107T070000
END:STANDARD
END:VTIMEZONE
BEGIN:VEVENT
DTSTART;TZID=America/Chicago:20210627T140000
DTEND;TZID=America/Chicago:20210627T163000
DTSTAMP:20260425T063731
CREATED:20210615T184935Z
LAST-MODIFIED:20210615T184935Z
UID:2301-1624802400-1624811400@riverviewhistoricdistrict.org
SUMMARY:KVSO "Music in the Park"
DESCRIPTION:The Kankakee Valley Symphony Orchestra will perform in Cobb Park on Sundays\, June 27th\, July 25th\, August 8th and August 29th. There will be two one-hour concerts on each date at 2pm and 3:30pm. Bring a chair!
URL:http://riverviewhistoricdistrict.org/event/kvso-music-in-the-park/
LOCATION:Cobb Park\, Cobb Blvd & S. Greenwood Ave\, KANKAKEE\, IL\, 60901\, United States
END:VEVENT
BEGIN:VEVENT
DTSTART;TZID=America/Chicago:20210506T190000
DTEND;TZID=America/Chicago:20210506T200000
DTSTAMP:20260425T063731
CREATED:20210415T233007Z
LAST-MODIFIED:20210415T233007Z
UID:2183-1620327600-1620331200@riverviewhistoricdistrict.org
SUMMARY:Riverview Monthly Board Meeting
DESCRIPTION:Monthly meeting of the Board of Directors of the Riverview Historic District. Email info@riverviewhistoricdistrict.org with questions or for more information.
URL:http://riverviewhistoricdistrict.org/event/riverview-monthly-board-meeting/
LOCATION:IL
END:VEVENT
BEGIN:VEVENT
DTSTART;VALUE=DATE:20210501
DTEND;VALUE=DATE:20210601
DTSTAMP:20260425T063731
CREATED:20210415T231933Z
LAST-MODIFIED:20210415T232021Z
UID:2162-1619827200-1622505599@riverviewhistoricdistrict.org
SUMMARY:Picture Perfect 5K
DESCRIPTION:PICTURE PERFECT 5K \nJoin us during the month of May for Riverview Historic District’s PICTURE PERFECT 5K. During this virtual neighborhood event\, friends and neighbors will have an opportunity to get active\, enjoy nature and learn more about our beautiful neighborhood.  \nUnable to have our annual fund raiser\, we hope you will join us in supporting Riverview Historic District for this new interactive event. \nVolunteers dove into the archives to find some amazing stories for you to explore on the course. \nWhether you’re a runner\, walker or jogger we invite you to join other residents with inquisitive minds on a journey of discovery and curiosity. All ages\, paces and faces are welcome so lace up your shoes and traverse RHD with us\, one 5K at a time! \nHOW TO PARTICIPATE\n1)	Register for the virtual race using the form that is linked on the website home page. Complete race anytime in the month of May. Registration is $20 and is open through May 15th. \n2) Join our Facebook Group to interact with other participants and compete in challenges each week.  \n3) Bring your curiosity as you run the 5K and let us know how it went and what 	you learned in the Facebook Group. \nCOURSE\nThis year’s race is completely virtual and takes place in the Historic District and around Cobb Park. \nGOODIE BOX\nWe are excited to provide a “house” box of goodies complete with a postcard pack of facts and clues for your trek\, plus more goodies. Your Box will be delivered to you prior to May 1st or soon after you register. Boxes will be available for pick-up on May 1st at the Kankakee Farmers Market\, also. \nCHALLENGES\nEach week during the month of May we will have a challenge that participants can take part in. Winners of the challenges will receive shout outs and be featured on the 5K website. Prizes to be named in the challenge. \nPHOTOS   \nSince this is a virtual race\, there will not be no official photos for the event. We do invite you to take photos of your route and tag #pictureperfect5k. Share on our FB and Instagram. \nSPONSORSHIP\nThank you to our sponsors.\nPlatinum $500:  Dr. James Adams\nGold $250:  Mike Boisvert/A-1 Raiche Locksmiths\nBarmann\, Bohlen & Scott\, P.C.\nDennis and Debi Baron\nSusan Henke\nBerry McCracken/Coldwell Banker Realty\nDon and Melissa Palmer\nPiggush Engineering\nSilver $100:\nAlderman-Elect  Dave Baron\nJohn and Nila McCracken\nJim and JoAnne Schwade\nLisa Sanford\, Speckman Realty\, Inc.\nNorman Strasma\nBill Yohnka
URL:http://riverviewhistoricdistrict.org/event/picture-perfect-5k/
LOCATION:IL
END:VEVENT
BEGIN:VEVENT
DTSTART;TZID=America/Chicago:20201213T170000
DTEND;TZID=America/Chicago:20201213T190000
DTSTAMP:20260425T063731
CREATED:20201019T001537Z
LAST-MODIFIED:20201019T002346Z
UID:2082-1607878800-1607886000@riverviewhistoricdistrict.org
SUMMARY:Holiday Light Stroll
DESCRIPTION:Get your house decorated for the holidays and then on December 13th take a walk around the neighborhood to check out all of the holiday light displays!
URL:http://riverviewhistoricdistrict.org/event/holiday-light-stroll-2/
LOCATION:Riverview Historic District and Riverside Neighborhood
END:VEVENT
BEGIN:VEVENT
DTSTART;TZID=America/Chicago:20201206T110000
DTEND;TZID=America/Chicago:20201206T110000
DTSTAMP:20260425T063731
CREATED:20190920T032303Z
LAST-MODIFIED:20201019T002719Z
UID:340-1607252400-1607252400@riverviewhistoricdistrict.org
SUMMARY:Holiday House Walk- CANCELLED for 2020- We are looking forward to 2021!
DESCRIPTION:Unfortunately the Holiday Housewalk is cancelled this year due to the coronavirus and the safety of our guests and homeowners. We are looking forward to a merry get together in 2021!
URL:http://riverviewhistoricdistrict.org/event/holiday-house-walk/
LOCATION:IL
CATEGORIES:Community Event
END:VEVENT
BEGIN:VEVENT
DTSTART;TZID=America/Chicago:20201203T190000
DTEND;TZID=America/Chicago:20201203T210000
DTSTAMP:20260425T063731
CREATED:20201019T002517Z
LAST-MODIFIED:20201019T002517Z
UID:2091-1607022000-1607029200@riverviewhistoricdistrict.org
SUMMARY:Riverview Virtual Board Meeting
DESCRIPTION:
URL:http://riverviewhistoricdistrict.org/event/riverview-virtual-board-meeting-2/
LOCATION:IL
END:VEVENT
BEGIN:VEVENT
DTSTART;TZID=America/Chicago:20201105T190000
DTEND;TZID=America/Chicago:20201105T210000
DTSTAMP:20260425T063731
CREATED:20201019T002441Z
LAST-MODIFIED:20201019T002441Z
UID:2089-1604602800-1604610000@riverviewhistoricdistrict.org
SUMMARY:Riverview Virtual Board Meeting
DESCRIPTION:
URL:http://riverviewhistoricdistrict.org/event/riverview-virtual-board-meeting/
LOCATION:IL
END:VEVENT
BEGIN:VEVENT
DTSTART;TZID=America/Chicago:20200604T190000
DTEND;TZID=America/Chicago:20200604T210000
DTSTAMP:20260425T063731
CREATED:20200411T000746Z
LAST-MODIFIED:20200411T000746Z
UID:1819-1591297200-1591304400@riverviewhistoricdistrict.org
SUMMARY:Riverview Board Meeting- Location TBD
DESCRIPTION:
URL:http://riverviewhistoricdistrict.org/event/riverview-board-meeting-location-tbd/
LOCATION:IL
END:VEVENT
BEGIN:VEVENT
DTSTART;TZID=America/Chicago:20200507T000000
DTEND;TZID=America/Chicago:20200507T000000
DTSTAMP:20260425T063731
CREATED:20200411T000131Z
LAST-MODIFIED:20200624T000345Z
UID:1814-1588809600-1588809600@riverviewhistoricdistrict.org
SUMMARY:Postponed Annual Meeting
DESCRIPTION:KVSO + RHD “Music Under the Oaks” Concert Series\n			 \n			 \n				\n				\n				\n				\n				\n				Come hear about what's been going on in your neighborhood. \n			 \n			 \n				\n				\n			 \n				\n				\n				\n				\n				\n				\n				Kankakee Masonic Lodge124 S Harrison Ave.Kankakee\, IL 60901\n			 \n			 \n				\n				\n				\n				\n				\n				Day\nApril 9\, 2026\n  \n			 \n			 \n				\n				\n				\n				\n				\n				Time\n5:30 PM\n			 \n			 \n				\n				\n			 \n				\n				\n				\n				\n				\n				\n				Join your neighbors and the RHD Board for annual meeting. \n			 \n				\n				\n				Come hear about what's been going on your neighborhood.
URL:http://riverviewhistoricdistrict.org/event/postponed-annual-meeting/
LOCATION:IL
END:VEVENT
BEGIN:VEVENT
DTSTART;TZID=America/Chicago:20200402T190000
DTEND;TZID=America/Chicago:20200402T210000
DTSTAMP:20260425T063732
CREATED:20200402T204426Z
LAST-MODIFIED:20200402T204426Z
UID:1652-1585854000-1585861200@riverviewhistoricdistrict.org
SUMMARY:Riverview Online Board Meeting
DESCRIPTION:
URL:http://riverviewhistoricdistrict.org/event/riverview-online-board-meeting/
LOCATION:IL
CATEGORIES:RHD Meeting
END:VEVENT
BEGIN:VEVENT
DTSTART;TZID=America/Chicago:20200305T190000
DTEND;TZID=America/Chicago:20200305T210000
DTSTAMP:20260425T063732
CREATED:20200116T005734Z
LAST-MODIFIED:20200402T175642Z
UID:1576-1583434800-1583442000@riverviewhistoricdistrict.org
SUMMARY:Board Meeting - March
DESCRIPTION:
URL:http://riverviewhistoricdistrict.org/event/board-meeting-march/
LOCATION:Private Home – 916\, 916 S. Greenwood\, Kankakee\, IL\, 60901\, United States
CATEGORIES:RHD Meeting
END:VEVENT
BEGIN:VEVENT
DTSTART;TZID=America/Chicago:20200208T190000
DTEND;TZID=America/Chicago:20200208T210000
DTSTAMP:20260425T063732
CREATED:20200127T000905Z
LAST-MODIFIED:20200402T175653Z
UID:1561-1581188400-1581195600@riverviewhistoricdistrict.org
SUMMARY:Wine Night
DESCRIPTION:
URL:http://riverviewhistoricdistrict.org/event/wine-night/
LOCATION:Bradley House\, 701 S. Harrison Ave\, Kankakee\, IL\, 60901\, United States
CATEGORIES:Community Event
ATTACH;FMTTYPE=image/jpeg:http://riverviewhistoricdistrict.org/wp-content/uploads/2020/01/60545481_2423253644354424_465270555885436928_n.jpg
END:VEVENT
BEGIN:VEVENT
DTSTART;TZID=America/Chicago:20200206T190000
DTEND;TZID=America/Chicago:20200206T210000
DTSTAMP:20260425T063732
CREATED:20200116T002118Z
LAST-MODIFIED:20200116T010219Z
UID:1559-1581015600-1581022800@riverviewhistoricdistrict.org
SUMMARY:Board Meeting - February
DESCRIPTION:
URL:http://riverviewhistoricdistrict.org/event/board-meeting-february/
LOCATION:Private Home – 1000\, 1000 S. Wildwood Ave\, Kankakee\, IL\, 60901\, United States
CATEGORIES:RHD Meeting
END:VEVENT
BEGIN:VEVENT
DTSTART;TZID=America/Chicago:20191124T130000
DTEND;TZID=America/Chicago:20191124T140000
DTSTAMP:20260425T063732
CREATED:20190920T032145Z
LAST-MODIFIED:20191106T044010Z
UID:338-1574600400-1574604000@riverviewhistoricdistrict.org
SUMMARY:How To Do "Crazy Lights"
DESCRIPTION:On Sunday\, November 24\, Riverside Neighborhood Organization will be hosting a demonstration on How to do “Crazy Lights” for those interested in displaying them during the Holidays. Location and time for the demonstration to be announced. This is a good time to think about planting any trees you may need and if you want to have an exterior electrical outlet installed. You might want to also begin stocking up on supplies. In addition to a few trees or anchors on your house\, you’ll need a tennis sized ball\, tape\, string\, tent stakes\, and\, of course\, strings of lights. Berry and Joanne McCracken have lights to purchase and can help to answer any questions you may have. If you are interested in having an outdoor electrical outlet installed and would like to see if a group discount can be arranged\, let them know. You can reach Berry at 815.954.7761 or berry.mccracken@cbexchange.com.
URL:http://riverviewhistoricdistrict.org/event/how-to-do-crazy-lights/
LOCATION:IL
END:VEVENT
BEGIN:VEVENT
DTSTART;TZID=America/Chicago:20191105T190000
DTEND;TZID=America/Chicago:20191105T210000
DTSTAMP:20260425T063732
CREATED:20190920T032031Z
LAST-MODIFIED:20200402T175446Z
UID:336-1572980400-1572987600@riverviewhistoricdistrict.org
SUMMARY:Board Meeting - November
DESCRIPTION:
URL:http://riverviewhistoricdistrict.org/event/board-meeting-2/
LOCATION:Magruder House\, 691 South Chicago Ave\, Kankakee\, IL\, 60901\, United States
CATEGORIES:RHD Meeting
END:VEVENT
BEGIN:VEVENT
DTSTART;TZID=America/Chicago:20191026T080000
DTEND;TZID=America/Chicago:20191026T170000
DTSTAMP:20260425T063732
CREATED:20190920T031642Z
LAST-MODIFIED:20191012T143123Z
UID:331-1572076800-1572109200@riverviewhistoricdistrict.org
SUMMARY:5th Annual Magruder House Halloween Wine Night/Anniversary Gathering
DESCRIPTION:It has been five years already and the ghost of Henry hasn’t chased us out yet! We are requesting your help to celebrate our 5th year in Kankakee. Food and beverages to be provided but we request that you bring a bottle of wine or a dish to share if you can. As in the past\, costumes are appreciated but not required. \nWe’re kicking it up a notch this year\, there will be a prize for the best costume\, a dinner for two at Hoppy Pig! \nSee you soon! – Andrea & Mike \nSaturday\, October 26th\, 7:30-?????\n691 South Chicago Avenue\nRSVP not required\, but helpful. Send to mike4andrea@gmail.com
URL:http://riverviewhistoricdistrict.org/event/5th-annual-magruder-house-halloween-wine-night-anniversary-gathering/
LOCATION:Magruder House\, 691 South Chicago Ave\, Kankakee\, IL\, 60901\, United States
CATEGORIES:Wine Night
END:VEVENT
BEGIN:VEVENT
DTSTART;TZID=America/Chicago:20191017T183000
DTEND;TZID=America/Chicago:20191017T210000
DTSTAMP:20260425T063732
CREATED:20190905T002950Z
LAST-MODIFIED:20190919T044859Z
UID:78-1571337000-1571346000@riverviewhistoricdistrict.org
SUMMARY:By-Laws Update Meeting
DESCRIPTION:For more than a year\, the Riverview Historic District Board of Directors have been gathering input and discussing revisions to the existing By-Laws for the organization. A final draft is being prepared and a copy of the new By-Laws will be delivered to every home in the Historic District\, as required by the existing By-Laws. A neighborhood meeting will be held to discuss the changes on October 17th at 6:30pm. The meeting will take place at the Bradley House. Plan to attend. Your input is encouraged.
URL:http://riverviewhistoricdistrict.org/event/by-laws-update-meeting/
LOCATION:Bradley House\, 701 S. Harrison Ave\, Kankakee\, IL\, 60901\, United States
CATEGORIES:RHD Meeting
END:VEVENT
END:VCALENDAR