BEGIN:VCALENDAR
VERSION:2.0
PRODID:-//Riverview Historic District - ECPv6.13.2.1//NONSGML v1.0//EN
CALSCALE:GREGORIAN
METHOD:PUBLISH
X-WR-CALNAME:Riverview Historic District
X-ORIGINAL-URL:https://riverviewhistoricdistrict.org
X-WR-CALDESC:Events for Riverview Historic District
REFRESH-INTERVAL;VALUE=DURATION:PT1H
X-Robots-Tag:noindex
X-PUBLISHED-TTL:PT1H
BEGIN:VTIMEZONE
TZID:America/Chicago
BEGIN:DAYLIGHT
TZOFFSETFROM:-0600
TZOFFSETTO:-0500
TZNAME:CDT
DTSTART:20250309T080000
END:DAYLIGHT
BEGIN:STANDARD
TZOFFSETFROM:-0500
TZOFFSETTO:-0600
TZNAME:CST
DTSTART:20251102T070000
END:STANDARD
END:VTIMEZONE
BEGIN:VEVENT
DTSTART;TZID=America/Chicago:20250315T190000
DTEND;TZID=America/Chicago:20250315T190000
DTSTAMP:20260425T070733
CREATED:20220421T132357Z
LAST-MODIFIED:20250205T222743Z
UID:2659-1742065200-1742065200@riverviewhistoricdistrict.org
SUMMARY:March Wine Night
DESCRIPTION:Come mingle with your neighbors and friends from the Riverview and Riverside Neighborhoods. Bring a beverage of your choice and an appetizer to share if you can! Subscribers to our e-mail list will find the host’s address in their e-mails or in the printed newsletter handed out to RHD residents.
URL:https://riverviewhistoricdistrict.org/event/wine-night-2/
LOCATION:Host’s Home\, 715 Park Place\, Kankakee\, 60901
CATEGORIES:Community Event
END:VEVENT
END:VCALENDAR