BEGIN:VCALENDAR
VERSION:2.0
PRODID:-//Riverview Historic District - ECPv6.13.2.1//NONSGML v1.0//EN
CALSCALE:GREGORIAN
METHOD:PUBLISH
X-ORIGINAL-URL:https://riverviewhistoricdistrict.org
X-WR-CALDESC:Events for Riverview Historic District
REFRESH-INTERVAL;VALUE=DURATION:PT1H
X-Robots-Tag:noindex
X-PUBLISHED-TTL:PT1H
BEGIN:VTIMEZONE
TZID:America/Chicago
BEGIN:DAYLIGHT
TZOFFSETFROM:-0600
TZOFFSETTO:-0500
TZNAME:CDT
DTSTART:20250309T080000
END:DAYLIGHT
BEGIN:STANDARD
TZOFFSETFROM:-0500
TZOFFSETTO:-0600
TZNAME:CST
DTSTART:20251102T070000
END:STANDARD
END:VTIMEZONE
BEGIN:VEVENT
DTSTART;TZID=America/Chicago:20251207T110000
DTEND;TZID=America/Chicago:20251207T160000
DTSTAMP:20260424T184140
CREATED:20210415T231343Z
LAST-MODIFIED:20251030T131204Z
UID:2160-1765105200-1765123200@riverviewhistoricdistrict.org
SUMMARY:Annual Riverview Holiday House Walk
DESCRIPTION:PURCHASE TICKETS\n			\n				\n				\n				The Riverview Historic District will host our annual Holiday Housewalk on December 7\, 2025. In addition to five beautiful Riverview homes\, tour the B. Harley Bradley House designed by Frank Lloyd Wright. \nAdvance tickets: $20 per person \nAdvance tickets are available online or in person. \nTickets are on sale at these Kankakee-area merchants: \nBusse & Rieck\, 2001 West Court\, Kankakee\, 815-933-2295 \nThe Flower Shoppe\, 1410 N. Hobbie\, Kankakee\, 815-933-2614 \nTholens’ Garden Center\, 1401 N. Convent\, Bourbonnais\, 815-939-6445 \nBa Da Bloom\, 918 N. Convent\, Bourbonnais\, 815-614-3415. \nOnline ticket will be available. Online sales will end on December 7. (Avoid service fees by purchasing in person at one of the locations above.) \nDay-of-tickets may only be purchased at the door: $25 per person \nThe tour begins at the Railroad Depot in Downtown Kankakee\, 197 South East Avenue. Kankakee\, IL 60901. \nIf you have questions\, please contact the housewalk chair\, June Boisvert. \n			 \n				\n				\n				FREQUENTLY ASKED QUESTIONS \nQ: Where do I pick up my brochure/ticket?A: At the Railroad Depot in Downtown Kankakee\, 197 South East Avenue. Kankakee\, IL 60901. (In previous years\, pickup has been at the Railroad Trolley Museum. This year pickup will be inside the Depot itself.) \nQ: Can I take pictures?A: While we are excited to share the beautiful homes with you\, we do not allow interior photography within any homes. Exterior photos from the front sidewalk are allowed. Please at all times respect the privacy of the home owners. \nQ: Does my child need a ticket?A: If your child walks\, they will need to purchase a ticket. And please\, no strollers. \nQ: If I purchase in advance\, do I still need to go to registration? A: Yes\, everyone must first come to the Trolley Barn to exchange their tickets for a tour brochure or physical ticket. \nQ: Are tickets refundable?A: No\, we do not have a policy for refunding tickets. If the tour is cancelled completely due to unforeseen circumstances we will refund all tickets. \nQ: Does the tour cancel if it rains?A: No\, the tour takes place rain or shine. The show must go on! \nQ: How long does it take to see all the homes?A: It will take approximately 2 to 2.5 hours to see all the homes on the tour. Several factors contribute to how quickly you will move through the tour\, including longer lines at some homes\, the time of the day\, and the size of the homes on the tour. \nQ: Do I have to follow a certain order when views the homes?A: No\, you do not need to follow a particular order when viewing the homes. \nQ: Can I go back through a home more than once?A: No\, unfortunately once you have toured a home it is not possible to go back through the home without purchasing another ticket. \nQ: Why are the second floors not open for all the homes on the tour?A: Logistically in some homes it become a traffic issue\, moving people up and down the same narrow staircase can cause a bottleneck. Other times it is the homeowner’s preference not to have it shown. \nQ: Why do I need to use shoe covers?A: We request that everyone on the tour wear shoe covers while in each home to protect this historic wood floors and carpeting. Shoe covers are provided for you. \nQ: Are restrooms available along the tour?A: The homes on the tour do NOT have restrooms open to the public. There is a restroom at the Trolley Barn and at the Bradley House.
URL:https://riverviewhistoricdistrict.org/event/holiday-housewalk-returns/
LOCATION:Kankakee Train Depot\, 197 South East Avenue.\, Kankakee\, IL\, 60901
CATEGORIES:Community Event
ATTACH;FMTTYPE=image/png:https://riverviewhistoricdistrict.org/wp-content/uploads/2022/10/RHD-House-Walk.png
END:VEVENT
END:VCALENDAR